BEGIN:VCALENDAR
VERSION:2.0
PRODID:-//Saint-Yrieix-sur-Charente - ECPv6.0.0.1//NONSGML v1.0//EN
CALSCALE:GREGORIAN
METHOD:PUBLISH
X-WR-CALNAME:Saint-Yrieix-sur-Charente
X-ORIGINAL-URL:https://saintyrieixsurcharente.arkole.fr
X-WR-CALDESC:évènements pour Saint-Yrieix-sur-Charente
REFRESH-INTERVAL;VALUE=DURATION:PT1H
X-Robots-Tag:noindex
X-PUBLISHED-TTL:PT1H
BEGIN:VTIMEZONE
TZID:Europe/Paris
BEGIN:DAYLIGHT
TZOFFSETFROM:+0100
TZOFFSETTO:+0200
TZNAME:CEST
DTSTART:20230326T010000
END:DAYLIGHT
BEGIN:STANDARD
TZOFFSETFROM:+0200
TZOFFSETTO:+0100
TZNAME:CET
DTSTART:20231029T010000
END:STANDARD
END:VTIMEZONE
BEGIN:VEVENT
DTSTART;TZID=Europe/Paris:20230419T153000
DTEND;TZID=Europe/Paris:20230419T193000
DTSTAMP:20260421T052029
CREATED:20230321T091108Z
LAST-MODIFIED:20230321T091108Z
UID:8951-1681918200-1681932600@saintyrieixsurcharente.arkole.fr
SUMMARY:Collecte de sang
DESCRIPTION:Collecte de sang de 15h30 19h30 à la salle des fêtes de La Combe. \nPrendre rendez-vous : https://dondesang.efs.sante.fr/trouver-une-collecte/72897/sang/21-03-2023
URL:https://saintyrieixsurcharente.arkole.fr/agenda/collecte-de-sang-3/
LOCATION:Salle de la Combe\, 152 Rue Jean et Constant Priolaud\, Saint-Yrieix-sur-Charente\, 16710
CATEGORIES:Associations,Santé
ATTACH;FMTTYPE=image/jpeg:https://saintyrieixsurcharente.arkole.fr/wp-content/uploads/2022/11/Don-de-sang-EFS.jpg
END:VEVENT
END:VCALENDAR