BEGIN:VCALENDAR
VERSION:2.0
PRODID:-//Saint-Yrieix-sur-Charente - ECPv6.0.0.1//NONSGML v1.0//EN
CALSCALE:GREGORIAN
METHOD:PUBLISH
X-ORIGINAL-URL:https://saintyrieixsurcharente.arkole.fr
X-WR-CALDESC:évènements pour Saint-Yrieix-sur-Charente
REFRESH-INTERVAL;VALUE=DURATION:PT1H
X-Robots-Tag:noindex
X-PUBLISHED-TTL:PT1H
BEGIN:VTIMEZONE
TZID:Europe/Paris
BEGIN:DAYLIGHT
TZOFFSETFROM:+0100
TZOFFSETTO:+0200
TZNAME:CEST
DTSTART:20230326T010000
END:DAYLIGHT
BEGIN:STANDARD
TZOFFSETFROM:+0200
TZOFFSETTO:+0100
TZNAME:CET
DTSTART:20231029T010000
END:STANDARD
END:VTIMEZONE
BEGIN:VEVENT
DTSTART;TZID=Europe/Paris:20230325T100000
DTEND;TZID=Europe/Paris:20230325T120000
DTSTAMP:20260423T011649
CREATED:20230127T132807Z
LAST-MODIFIED:20230127T132807Z
UID:8381-1679738400-1679745600@saintyrieixsurcharente.arkole.fr
SUMMARY:Formation aux gestes qui sauvent
DESCRIPTION:Samedi 25 mars de 10h à 12h. Gratuit – Sur inscription – Réservé aux habitants de Saint-Yrieix – Lieu : à déterminer. Contact : 05 45 38 69 50
URL:https://saintyrieixsurcharente.arkole.fr/agenda/formation-aux-gestes-qui-sauvent/
CATEGORIES:Prévention,Santé
ATTACH;FMTTYPE=image/jpeg:https://saintyrieixsurcharente.arkole.fr/wp-content/uploads/2023/01/secourisme-agenda.jpg
END:VEVENT
END:VCALENDAR