BEGIN:VCALENDAR
VERSION:2.0
PRODID:-//Saint-Yrieix-sur-Charente - ECPv6.0.0.1//NONSGML v1.0//EN
CALSCALE:GREGORIAN
METHOD:PUBLISH
X-WR-CALNAME:Saint-Yrieix-sur-Charente
X-ORIGINAL-URL:https://saintyrieixsurcharente.arkole.fr
X-WR-CALDESC:évènements pour Saint-Yrieix-sur-Charente
REFRESH-INTERVAL;VALUE=DURATION:PT1H
X-Robots-Tag:noindex
X-PUBLISHED-TTL:PT1H
BEGIN:VTIMEZONE
TZID:Europe/Paris
BEGIN:DAYLIGHT
TZOFFSETFROM:+0100
TZOFFSETTO:+0200
TZNAME:CEST
DTSTART:20230326T010000
END:DAYLIGHT
BEGIN:STANDARD
TZOFFSETFROM:+0200
TZOFFSETTO:+0100
TZNAME:CET
DTSTART:20231029T010000
END:STANDARD
END:VTIMEZONE
BEGIN:VEVENT
DTSTART;TZID=Europe/Paris:20230215T153000
DTEND;TZID=Europe/Paris:20230215T193000
DTSTAMP:20260422T001743
CREATED:20230202T082023Z
LAST-MODIFIED:20230202T090044Z
UID:8491-1676475000-1676489400@saintyrieixsurcharente.arkole.fr
SUMMARY:Collecte de sang
DESCRIPTION:Collecte de sang de 15h30 à 19h30 à la salle des fêtes de La Combe. \nPlus d’infos : https://dondesang.efs.sante.fr/
URL:https://saintyrieixsurcharente.arkole.fr/agenda/collecte-de-sang-2/
LOCATION:Salle de la Combe\, 152 Rue Jean et Constant Priolaud\, Saint-Yrieix-sur-Charente\, 16710
CATEGORIES:Associations,Prévention,Santé
ATTACH;FMTTYPE=image/jpeg:https://saintyrieixsurcharente.arkole.fr/wp-content/uploads/2022/11/Don-de-sang-EFS.jpg
END:VEVENT
BEGIN:VEVENT
DTSTART;TZID=Europe/Paris:20230225T100000
DTEND;TZID=Europe/Paris:20230225T120000
DTSTAMP:20260422T001743
CREATED:20230222T090934Z
LAST-MODIFIED:20230224T094601Z
UID:8679-1677319200-1677326400@saintyrieixsurcharente.arkole.fr
SUMMARY:Atelier DIY - Fabrication de produits naturel
DESCRIPTION:Vous en avez assez de tous ces produits chimiques dans votre maison ?\nVous voulez faire des économies\, prendre soin de votre santé ?\nvous voulez faire un geste pour la planète ?\n\nPourquoi ne pas faire vos propres produits cosmétiques et ménagers ? \nVenez rencontrer « Mermaid & Sea » à la médiathèque et repartez avec 3 produits que vous aurez confectionnés vous-même. \nL’atelier est gratuit\, pensez à vous inscrire et apporter vos flacons vides (bouteilles de shampoing\, bocaux\, petits pots de bébé…) \nNous vous proposons 3 dates différentes :  \n– samedi 25 février à 10h \n– samedi 4 mars à 10h \n– samedi 18 mars 10h \n Attention à ne pas vous inscrire aux 3\, les produits proposés seront les mêmes.  \nInfos et inscription : 05 45 38 95 00 ou sur le portail des médiathèques  
URL:https://saintyrieixsurcharente.arkole.fr/agenda/atelier-diy/
LOCATION:Médiathèque\, 19 bis avenue de l'Union\, SAINT-YRIEIX SUR CHARENTE\, 16710
CATEGORIES:Culture,Santé
ATTACH;FMTTYPE=image/jpeg:https://saintyrieixsurcharente.arkole.fr/wp-content/uploads/2023/02/Atelier-diy.jpg
END:VEVENT
END:VCALENDAR