BEGIN:VCALENDAR
VERSION:2.0
PRODID:-//Saint-Yrieix-sur-Charente - ECPv6.0.0.1//NONSGML v1.0//EN
CALSCALE:GREGORIAN
METHOD:PUBLISH
X-WR-CALNAME:Saint-Yrieix-sur-Charente
X-ORIGINAL-URL:https://saintyrieixsurcharente.arkole.fr
X-WR-CALDESC:évènements pour Saint-Yrieix-sur-Charente
REFRESH-INTERVAL;VALUE=DURATION:PT1H
X-Robots-Tag:noindex
X-PUBLISHED-TTL:PT1H
BEGIN:VTIMEZONE
TZID:Europe/Paris
BEGIN:DAYLIGHT
TZOFFSETFROM:+0100
TZOFFSETTO:+0200
TZNAME:CEST
DTSTART:20230326T010000
END:DAYLIGHT
BEGIN:STANDARD
TZOFFSETFROM:+0200
TZOFFSETTO:+0100
TZNAME:CET
DTSTART:20231029T010000
END:STANDARD
END:VTIMEZONE
BEGIN:VEVENT
DTSTART;TZID=Europe/Paris:20230319T093000
DTEND;TZID=Europe/Paris:20230319T103000
DTSTAMP:20260423T083817
CREATED:20230127T132151Z
LAST-MODIFIED:20230310T142520Z
UID:8378-1679218200-1679221800@saintyrieixsurcharente.arkole.fr
SUMMARY:Commémoration du 19 mars
DESCRIPTION:Cérémonie de commémoration du cessez-le-feu du 19 mars 1962 au monument aux morts de Vénat.
URL:https://saintyrieixsurcharente.arkole.fr/agenda/commemoration-du-19-mars/
CATEGORIES:Associations,Manifestations
ATTACH;FMTTYPE=image/jpeg:https://saintyrieixsurcharente.arkole.fr/wp-content/uploads/2023/01/19-mars-agenda.jpg
END:VEVENT
BEGIN:VEVENT
DTSTART;TZID=Europe/Paris:20230325T100000
DTEND;TZID=Europe/Paris:20230325T130000
DTSTAMP:20260423T083817
CREATED:20230127T130657Z
LAST-MODIFIED:20230223T112210Z
UID:8374-1679738400-1679749200@saintyrieixsurcharente.arkole.fr
SUMMARY:Carnaval
DESCRIPTION:Carnaval de Saint-Yrieix\, samedi 25 mars. \nÀ 10h\, écoles de Bardines\nThème : La Gourmandise \nPlus d’informations : Centre Social et Culturel Amicale Laïque : 05 45 92 14 82
URL:https://saintyrieixsurcharente.arkole.fr/agenda/carnaval/
CATEGORIES:Associations,Manifestations
ATTACH;FMTTYPE=image/jpeg:https://saintyrieixsurcharente.arkole.fr/wp-content/uploads/2023/01/CARNAVAL_2023.jpg
END:VEVENT
END:VCALENDAR